BEGIN:VCALENDAR
VERSION:2.0
PRODID:-//World Enjoyer - ECPv6.15.3//NONSGML v1.0//EN
CALSCALE:GREGORIAN
METHOD:PUBLISH
X-WR-CALNAME:World Enjoyer
X-ORIGINAL-URL:https://worldenjoyer.com/?lang=es
X-WR-CALDESC:Eventos para World Enjoyer
REFRESH-INTERVAL;VALUE=DURATION:PT1H
X-Robots-Tag:noindex
X-PUBLISHED-TTL:PT1H
BEGIN:VTIMEZONE
TZID:Europe/Madrid
BEGIN:DAYLIGHT
TZOFFSETFROM:+0100
TZOFFSETTO:+0200
TZNAME:CEST
DTSTART:20260329T010000
END:DAYLIGHT
BEGIN:STANDARD
TZOFFSETFROM:+0200
TZOFFSETTO:+0100
TZNAME:CET
DTSTART:20261025T010000
END:STANDARD
END:VTIMEZONE
BEGIN:VEVENT
DTSTART;TZID=Europe/Madrid:20260304T160000
DTEND;TZID=Europe/Madrid:20260308T140000
DTSTAMP:20260421T103019
CREATED:20241204T194955Z
LAST-MODIFIED:20250503T180404Z
UID:10000052-1772640000-1772978400@worldenjoyer.com
SUMMARY:Campus Squash Málaga
DESCRIPTION:🕑💪 ¡Plazas limitadas! \n				\n			\n				\n				\n				\n				\n				\n				\n				\n					\n				\n			\n				\n			\n			\n				\n				\n				\n				\n			\n				\n				\n				\n				\n				\n				\n				\n				\n				\n				\n				📍 Vive la Experiencia del Campus de Squash Málaga.📅 Del 5 al 9 de Marzo de 2025📶 Entrenamiento adaptado a todos los niveles – ¡Jugadores de todos los niveles son bienvenidos!🎾 Lleva tu squash al siguiente nivel y disfruta de un campus exclusivo en Fuengirola\, Costa del Sol. \nMejora tu squash en un entorno único en Costa del Sol.\nSi estás buscando mejorar tus habilidades en un ambiente profesional y rodeado de jugadores apasionados de todo el mundo\, no te puedes perder este Campus Squash Málaga . ¡Ven a disfrutar de intensivos de squash\, entrenamiento y aprendizaje en 2025! \n			\n			\n				\n				\n				\n				\n				\n				\n					\n				\n				\n				\n					\n						\n						\n							  \n  \n  \n  \n  \n  \n  \n							\n						\n					\n				\n				\n				\n				\n			\n			\n				\n				\n				\n					\n						\n						\n							  \n  \n  \n  \n  \n  \n							\n						\n					\n				\n				\n				\n				\n			\n			\n				\n				\n				\n					\n						\n						\n							  \n  \n  \n  \n							\n						\n					\n				\n				\n				\n				\n			\n			\n				\n				\n				\n					\n						\n						\n							  \n  \n  \n  \n							\n						\n					\n				\n				\n				\n				\n			\n			\n				\n				\n			\n			\n			\n				\n				\n				\n				\n			\n				\n				\n				\n				\n				\n				\n				\n				\n				\n				\n				\n				\n			\n				\n				\n				\n				\n				Más de 450 campus en 17 países20 años organizando campus de squash \n				\n			\n				\n				\n				\n				\n				\n				\n				\n					\n				\n			\n				\n			\n			\n				\n				\n				\n				\n			\n				\n				\n				\n				\n				\n				\n				\n				\n				\n				\n				Equipo World Enjoyer\n				Equipo de Entrenadores Internacionales\nEl equipo de entrenadores está compuesto por profesionales con una amplia experiencia en los circuitos internacionales\, algunos de ellos compiten a nivel mundial. Su objetivo es proporcionarte una experiencia de entrenamiento única\, personalizada y diseñada para mejorar tu nivel de squash. \n			\n				\n				\n				\n				\n				Objetivo y Metas\n				Objetivo y Metas del Campus Squash Málaga 2025\n¿Estás listo para llevar tu squash a un nivel superior? Únete a este campus exclusivo en Fuengirola\, donde entrenarás en un entorno internacional y profesional. Mejorarás tu técnica\, táctica y resistencia\, trabajando con entrenadores de renombre y rodeado de jugadores internacionales. ¡Te esperamos! \n			\n				\n				\n				\n				\n				Entrenamiento\n				¿Por qué elegir nuestro Campus de Squash Málaga?\n\nEntrenamiento en un entorno internacional: Entrena junto a jugadores de diferentes países y estilos\, enriqueciendo tu juego y aprendiendo nuevas perspectivas del squash.\nInstrucción personalizada de entrenadores internacionales: Nuestro equipo de entrenadores expertos se dedica a ayudarte a mejorar cada aspecto de tu juego\, adaptando las sesiones a tu nivel y necesidades.\nUna experiencia única en Costa del Sol: Disfruta de la localización mientras perfeccionas tu squash. Vive un ambiente motivador\, tanto dentro como fuera de la pista.\n\nDesarrollo completo del jugador\n\nTécnica: Mejora la precisión\, el control de la pelota y aprende nuevos golpes.\nTácticas: Desarrolla estrategias inteligentes y aprende a leer el juego.\nMovimiento: Optimiza tu agilidad\, velocidad y resistencia en la pista.\nEntrenamiento físico: Aumenta tu fuerza y resistencia\, esenciales para un alto rendimiento.\n\nPartidos organizados y juegos condicionados.\nA lo largo del campus\, tendrás la oportunidad de participar en partidos organizados por nuestros entrenadores y poner en práctica lo aprendido. \n			\n			\n				\n				\n				\n				\n				\n				\n				\n				\n				\n				Horarios:\n				¡5 días de entrenamiento intensivo en Campus Squash Málaga! \n\nMiércoles: Sesión larga por la tarde/noche.\nJueves: Doble sesión (mañana y tarde) + cena del campus.\nViernes: Sesión larga por la tarde/noche.\nSábado: Doble sesión (mañana y tarde) + cena del campus.\nDomingo: Entrenamiento y competición hasta las 14:00.\n\nPregunta por los horarios de Fin de semana o formato 4 horas: info@worldenjoyer.com \n			\n				\n				\n				\n				\n				Localización\n				Polideportivo Estadio Elola y Hotel Villa de Laredo. \n			\n				\n				\n				\n				\n				Política de Cancelación\n				Política de Cancelación\n\nCancelación dentro de los 25 días previos al evento: No habrá reembolso.\nCancelación entre 25 y 60 días antes del evento: Reembolso del 30%.\nCancelación con más de 60 días de antelación: Reembolso del 50%.\n\n			\n			\n				\n				\n				\n				\n			\n				\n				\n				\n				\n				\n				\n				\n				\n				\n				\n				\n				\n					5 días llenos de Squash. Fue divertido\, muy efectivo y educativo. El equipo fue muy amable y nos dio buenos comentarios para que pudiéramos mejorar. Lo más destacado fue el partido contra los mejores jugadores 🙂. \nJohannes (2024)
URL:https://worldenjoyer.com/event/campus-squash-malaga/?lang=es
LOCATION:Polideportivo Municipal Elola\, C/ Miguel Bueno\, s/n\, Fuengirola\, Málaga\, 29640\, Spain
CATEGORIES:5 Días,Premium
ATTACH;FMTTYPE=image/jpeg:https://worldenjoyer.com/wp-content/uploads/2023/10/Gib1-scaled.jpg
ORGANIZER;CN="Equipo de World Enjoyer":MAILTO:info@worldenjoyer.com
END:VEVENT
END:VCALENDAR