BEGIN:VCALENDAR
VERSION:2.0
PRODID:-//World Enjoyer - ECPv6.15.3//NONSGML v1.0//EN
CALSCALE:GREGORIAN
METHOD:PUBLISH
X-WR-CALNAME:World Enjoyer
X-ORIGINAL-URL:https://worldenjoyer.com/?lang=es
X-WR-CALDESC:Eventos para World Enjoyer
REFRESH-INTERVAL;VALUE=DURATION:PT1H
X-Robots-Tag:noindex
X-PUBLISHED-TTL:PT1H
BEGIN:VTIMEZONE
TZID:Europe/Madrid
BEGIN:DAYLIGHT
TZOFFSETFROM:+0100
TZOFFSETTO:+0200
TZNAME:CEST
DTSTART:20250330T010000
END:DAYLIGHT
BEGIN:STANDARD
TZOFFSETFROM:+0200
TZOFFSETTO:+0100
TZNAME:CET
DTSTART:20251026T010000
END:STANDARD
END:VTIMEZONE
BEGIN:VEVENT
DTSTART;TZID=Europe/Madrid:20250509T160000
DTEND;TZID=Europe/Madrid:20250511T140000
DTSTAMP:20260421T081840
CREATED:20241214T094733Z
LAST-MODIFIED:20250326T101946Z
UID:10000063-1746806400-1746972000@worldenjoyer.com
SUMMARY:Campus Squash Barcelona
DESCRIPTION:🕑💪 ¡Plazas limitadas! \n				\n			\n				\n				\n				\n				\n				\n				\n				\n					\n				\n			\n				\n			\n			\n				\n				\n				\n				\n			\n				\n				\n				\n				\n				\n				\n				\n				\n				\n				\n				📍 Campus Squash Barcelona es una gran oportunidad de mejorar tu squash en España. Disfruta de nuestro Curso de Squash. \n📅 Del 9 al 11 de Mayo de 2025. \n📶 Trabajamos en grupos de entrenamiento adaptados a diferentes niveles. ¡Todos los niveles son bienvenidos! \n🎾 ¡Lleva tu squash al siguiente nivel y vive una experiencia única en Barcelona! \nMejora tus habilidades de squash y disfruta de un Campus de Squash exclusivo. \n¡Entrena y perfecciona tu squash en Barcelona mientras disfrutas de una experiencia inolvidable! \n			\n			\n				\n				\n				\n				\n				\n				\n					\n				\n				\n				\n					\n						\n						\n							  \n  \n  \n  \n  \n  \n \n							\n						\n					\n				\n				\n				\n				\n			\n			\n				\n				\n				\n					\n						\n						\n							  \n  \n  \n \n							\n						\n					\n				\n				\n				\n				\n			\n			\n				\n				\n				\n					\n						\n						\n							\n							\n						\n					\n				\n				\n				\n				\n			\n			\n				\n				\n				\n					\n						\n						\n							\n							\n						\n					\n				\n				\n				\n				\n			\n			\n				\n				\n			\n			\n			\n				\n				\n				\n				\n			\n				\n				\n				\n				\n				\n				\n				\n				\n				\n				\n				\n				\n			\n				\n				\n				\n				\n				Más de 450 campus en 17 países desde 2003.20 años organizando campus de squash en 17 países.\n				\n			\n				\n				\n				\n				\n				\n				\n				\n					\n				\n			\n				\n			\n			\n				\n				\n				\n				\n			\n				\n				\n				\n				\n				\n				\n				\n				\n				\n				\n				Equipo de trabajo\n				El equipo de trabajo está compuesto por entrenadores profesionales con experiencia en los circuitos internacionales\, algunos de ellos compitiendo a nivel mundial. Todos tienen una fuerte vocación de servicio\, con el objetivo de ofrecer un valor añadido en cada sesión de entrenamiento\, garantizando una experiencia única y enriquecedora para todos los participantes.\n			\n				\n				\n				\n				\n				Objetivos\n				Campus Squash Barcelona en 2025: ¡Mejora tu juego en un entorno único! \n¿Estás listo para llevar tu squash al siguiente nivel? Únete al Campus de Squash y disfruta de una experiencia única\, donde podrás mejorar tus habilidades en un entorno internacional y profesional. Durante este evento\, tendrás la oportunidad de entrenar con los mejores entrenadores internacionales y disfrutar de un ambiente vibrante y motivador. \n¿Por qué elegir el Campus de Squash? \n\nEntrena y mejora tu squash en un entorno internacionalEn nuestro campus\, entrenarás con jugadores de todo el mundo\, lo que te permitirá experimentar una variedad de estilos y enfoques del squash. Este entorno multicultural te ofrecerá una perspectiva única y enriquecerá tu juego.\nInstrucción de alta calidad por entrenadores internacionalesNuestro equipo de entrenadores está compuesto por profesionales altamente capacitados con amplia experiencia internacional. Recibirás una atención personalizada y estrategias adaptadas a tu nivel\, lo que te permitirá mejorar tanto tu técnica como tu rendimiento en la pista.\nUna experiencia memorable en un ambiente único y agradableDisfruta de la ciudad de  un lugar lleno de cultura\, energía y vida. El campus está diseñado no solo para mejorar tu squash\, sino para que vivas una experiencia enriquecedora tanto dentro como fuera de la pista. Aprovecha para conocer nuevos amigos y compartir tu pasión por este deporte.\nDesarrollo integral del jugadorEl programa cubre todos los aspectos esenciales para el desarrollo de un jugador de squash\, incluyendo:\n  \n\nTécnica: Mejora tus golpes\, controles y tácticas de juego.\nTáctica: Aprende a leer mejor los partidos\, analizar a tu oponente y tomar decisiones rápidas y efectivas.\nMovimiento: Optimiza tu agilidad\, resistencia y posicionamiento en la pista.\nEntrenamiento físico: Potencia tu resistencia y fuerza\, aspectos fundamentales para jugar al más alto nivel.\n\n\nEntrenamiento y partidos organizados por nuestro personal profesionalDurante el campus\, tendrás la oportunidad de entrenar y jugar partidos organizados por nuestros entrenadores. Estos partidos te permitirán poner en práctica lo aprendido y competir en un ambiente saludable y de desarrollo.\n\n			\n				\n				\n				\n				\n				Entrenamiento de Squash\n				Campus de Squash en 2025: ¡Entrena y Mejora tu Squash en un Entorno Profesional e Internacional! \nSi buscas mejorar tu squash y vivir una experiencia única en Sofía\, nuestro Campus de Squash 2025 es la oportunidad perfecta para ti. Durante tres días intensivos\, tendrás acceso a un programa completo diseñado para elevar tu juego\, independientemente de tu nivel. Ya seas un jugador principiante\, intermedio o avanzado\, te ayudaremos a llevar tu squash al siguiente nivel. Además\, disfrutarás de un entorno internacional\, rodeado de entrenadores expertos y compañeros de todo el mundo. \n¿Por qué elegir nuestro Campus de Squash? \n\nDesarrollo Integral del Jugador\nNuestro enfoque se centra en todos los aspectos del juego. Durante el Campus de Squash en Bulgaria\, no solo mejorarás tu técnica y táctica\, sino que también optimizarás tu capacidad física y mental para alcanzar tu máximo potencial. Nuestro programa está diseñado para adaptarse a tu nivel\, edad y desarrollo físico\, asegurando que recibas la atención adecuada a tus necesidades.\nEntrenadores Internacionales con Experiencia\nContamos con un equipo de entrenadores de nivel internacional\, con amplia experiencia trabajando con jugadores de diferentes niveles y nacionalidades. Recibirás instrucción personalizada de nuestros expertos\, quienes te guiarán a lo largo de tu proceso de aprendizaje y perfeccionamiento\, brindándote herramientas y estrategias para mejorar de manera efectiva.\nEntrenamiento Completo en Técnicas y Tácticas\nEl programa cubre todos los aspectos esenciales para el desarrollo de un jugador de squash: \n\nTécnica: Mejora tu precisión y control sobre la pelota\, aprende nuevos golpes y perfecciona tus habilidades.\nTácticas: Aprende a leer el juego\, desarrollar estrategias efectivas y ejecutar jugadas inteligentes que te den ventaja sobre tu oponente.\nMovimiento: Optimiza tu agilidad y resistencia\, dos factores claves para jugar a nivel alto.\nEntrenamiento físico: Aumenta tu resistencia\, fuerza y flexibilidad\, mejorando tu rendimiento físico dentro y fuera de la pista.\n\n\n\n			\n			\n				\n				\n				\n				\n				\n				\n				\n				\n				\n				Horarios\n				¡Un Fin de Semana Intensivo para Elevar tu Juego! \n¿Qué esperar del programa del Campus Squash? \nEl campus está diseñado para maximizar tu rendimiento en tres días intensivos de entrenamiento. Aquí te detallamos cómo será el cronograma del campamento para que sepas exactamente qué esperar: \n\nViernes: Sesión de entrenamiento intensa por la tarde/noche\nComenzamos el campamento con una sesión larga de entrenamiento en la tarde\, donde te sumergirás en un enfoque técnico y táctico\, enfocado en mejorar tus habilidades específicas. Aprovecha esta primera sesión para empezar a conocer tu grupo y ajustar tu juego bajo la supervisión de nuestros entrenadores profesionales. ¡No habrá tiempo para el aburrimiento!\nSábado: Doble sesión (Mañana y Tarde) + Cena de Campamento\nEl sábado será un día de entrenamiento intensivo. Realizaremos dos sesiones: una por la mañana y otra por la tarde. En la mañana\, nos enfocaremos en la técnica\, el movimiento y las tácticas clave para mejorar tu rendimiento en la pista. En la tarde\, continuaremos con ejercicios prácticos y partidos para poner en práctica lo aprendido. Para cerrar el día\, organizamos una cena de campamento donde podrás interactuar con otros participantes y entrenadores\, compartir experiencias y disfrutar de un ambiente relajado y amistoso.\nDomingo: Entrenamiento y Competición + Cierre a las 14:00\nEl domingo será un día para poner en práctica todo lo aprendido durante el fin de semana. Realizaremos una última sesión de entrenamiento combinada con una competición amistosa que te permitirá aplicar tus habilidades en un entorno competitivo. El campamento finalizará alrededor de las 14:00\, pero habrás ganado valiosas experiencias y mejoras en tu juego.\n\n¿Por qué asistir al Campus de squash 2025? \n\nEntrenamiento personalizado e intensivo: Aprovecha al máximo el tiempo con entrenadores profesionales que te guiarán durante cada sesión.\nDesarrollo completo: Trabaja en tus aspectos técnicos\, tácticos y físicos\, mientras mejoras tu condición general.\n\n			\n				\n				\n				\n				\n				Instalaciones deportivas\n				Dir Rocafort es una instalación de squash de primer nivel ubicada en Barcelona\, que ofrece canchas de alta calidad tanto para jugadores recreativos como competitivos. El centro cuenta con modernas instalaciones\, incluyendo canchas bien mantenidas\, área de fitness y tienda especializada. Ya sea para mejorar tus habilidades o competir\, Dir Rocafort ofrece un ambiente acogedor para jugadores de todos los niveles. \n			\n				\n				\n				\n				\n				Política de Cancelación\n				  \n\nCancelación dentro de los 25 días previos al evento: Sin reembolso.\nCancelación entre 25 y 60 días antes del evento: Reembolso del 30%.\nCancelación con más de 60 días de antelación: Reembolso del 50%.\n\n			\n			\n				\n				\n				\n				\n			\n				\n				\n				\n				\n				\n				\n				\n				\n				\n				\n				\n				\n					«Todo el campus estuvo muy bien organizado y fue justo lo que esperaba. Sin embargo\, los entrenadores superaron ampliamente mis expectativas. Estoy deseando el próximo campamento 💪🏼 \nRyan (Suiza)»
URL:https://worldenjoyer.com/event/campus-squash-barcelona/?lang=es
LOCATION:Dir Esportiu Rocafort\, Floridablanca\, 41\, Barcelona\, Barcelona\, 08015\, Spain
CATEGORIES:Élite,Fin de Semana,Premium
ATTACH;FMTTYPE=image/jpeg:https://worldenjoyer.com/wp-content/uploads/2024/10/41-Barcelona-Squash-Camp-2024.jpg
ORGANIZER;CN="Equipo de World Enjoyer":MAILTO:info@worldenjoyer.com
END:VEVENT
END:VCALENDAR