BEGIN:VCALENDAR
VERSION:2.0
PRODID:-//World Enjoyer - ECPv6.15.3//NONSGML v1.0//EN
CALSCALE:GREGORIAN
METHOD:PUBLISH
X-WR-CALNAME:World Enjoyer
X-ORIGINAL-URL:https://worldenjoyer.com/?lang=es
X-WR-CALDESC:Eventos para World Enjoyer
REFRESH-INTERVAL;VALUE=DURATION:PT1H
X-Robots-Tag:noindex
X-PUBLISHED-TTL:PT1H
BEGIN:VTIMEZONE
TZID:Europe/Madrid
BEGIN:DAYLIGHT
TZOFFSETFROM:+0100
TZOFFSETTO:+0200
TZNAME:CEST
DTSTART:20250330T010000
END:DAYLIGHT
BEGIN:STANDARD
TZOFFSETFROM:+0200
TZOFFSETTO:+0100
TZNAME:CET
DTSTART:20251026T010000
END:STANDARD
END:VTIMEZONE
BEGIN:VEVENT
DTSTART;TZID=Europe/Madrid:20251201T160000
DTEND;TZID=Europe/Madrid:20251205T140000
DTSTAMP:20260421T230054
CREATED:20250114T141621Z
LAST-MODIFIED:20250905T181947Z
UID:10000068-1764604800-1764943200@worldenjoyer.com
SUMMARY:Campus Squash Lanzarote
DESCRIPTION:🕑💪 ¡Plazas Limitadas!\n				\n			\n				\n				\n				\n				\n				\n				\n				\n					\n				\n			\n				\n			\n			\n				\n				\n				\n				\n			\n				\n				\n				\n				\n				\n				\n				\n				\n				\n				\n				\n\n\n\n📍 Campus Squash Lanzarote es una de las mejores experiencias de squash que hemos creado para todos los amantes de este deporte. Mejora tus habilidades en squash mientras disfrutas de la mejor ubicación en Lanzarote. \n📅 Garantizamos un mínimo de 15 horas de entrenamiento en 5 días\, trabajando todos los aspectos clave para mejorar tu squash. \n📶 Trabajamos en grupos diferentes según el nivel. ¡Todos los niveles son bienvenidos! \n🎾 Sube de nivel en squash en una experiencia memorable en las Islas Canarias. \n¡Entrena y mejora tu squash en España! \n\n\n\n\n			\n			\n				\n				\n				\n				\n				\n				\n					\n				\n				\n				\n					\n						\n						\n							  \n  \n  \n  \n  \n \n							\n						\n					\n				\n				\n				\n				\n			\n			\n				\n				\n				\n					\n						\n						\n							\n							\n						\n					\n				\n				\n				\n				\n			\n			\n				\n				\n				\n					\n						\n						\n							\n							\n						\n					\n				\n				\n				\n				\n			\n			\n				\n				\n			\n			\n			\n				\n				\n				\n				\n			\n				\n				\n				\n				\n				\n				\n				\n				\n				\n				\n				\n				\n			\n				\n				\n				\n				\n				Más de 450 Campus en 17 países.20 años organizando campus de squash en 17 países\n				\n			\n				\n				\n				\n				\n				\n				\n				\n					\n				\n			\n				\n			\n			\n				\n				\n				\n				\n			\n				\n				\n				\n				\n				\n				\n				\n				\n				\n				\n				Equipo de Trabajo.\n				Tino Casas\nEntrenador profesional. Exjugador de PSA. Tino y su equipo han dirigido más de 450 campamentos internacionales en 17 países.\n			\n				\n				\n				\n				\n				Objetivos\n				Campus Lanzarote Squash. \nEntrena y mejora tu squash en un ambiente internacional. \nRecibe instrucción de alta calidad de nuestro experimentado equipo de entrenadores internacionales. \nDisfruta de una experiencia memorable en un ambiente muy agradable. \nEl programa cubrirá todos los aspectos del desarrollo del jugador\, incluyendo técnica\, táctica\, movimiento y entrenamiento físico. \nRecibe entrenamiento y partidos de nuestro personal profesional. \n¡Contáctanos para más detalles sobre el campamento!\n			\n				\n				\n				\n				\n				Entrenamiento de Squash.\n				Campus Lanzarote Squash: \nNuestro programa se enfocará en mejorar tu técnica y desarrollar tu capacidad física\, teniendo en cuenta tu nivel\, edad y desarrollo físico. \nTambién trabajaremos contigo para mejorar tu fortaleza mental: \n\nSesiones de estiramiento y relajación.\nDesarrollo de un plan de acción personalizado para que puedas llevarte y trabajar en él.\nSesiones de coaching individual adaptadas a tus necesidades específicas.\nAnálisis de video y seminarios para mejorar tus tácticas.\nPsicología deportiva y visualización para ayudarte a alcanzar tus objetivos personales de squash.\n\n			\n			\n				\n				\n				\n				\n				\n				\n				\n				\n				\n				Horarios y Organización\n				Sesión doble: \nPor la mañana: \n\nTrabajo técnico en la pista. Trabajamos con un análisis de los fundamentos y la precisión. Nuestro equipo de entrenadores se encarga de la alimentación durante los ejercicios.\nPreparación física. Cada día nos centramos en diferentes aspectos: (potencia\, velocidad\, resistencia).\nEstiramientos y ejercicios para prevenir lesiones.\n\nPor la tarde: \n\nEjercicios tácticos y de juego condicionado. Partidos entre jugadores y entrenadores.\nSeminario (Análisis de video).\n\nA lo largo de la semana\, organizamos experiencias gastronómicas\, visitas turísticas y actividades de ocio.\n			\n				\n				\n				\n				\n				Instalaciones y Alojamiento.\n				\n\n\n\n\nCampus Lanzarote Squash. \nAlojamiento e Instalaciones deportivas: \nClub La Santa es un verdadero paraíso para los amantes de las vacaciones activas. Disfruta de una enorme variedad de deportes\, ejercicio\, bienestar y actividades sociales bajo el sol brillante de Lanzarote durante todo el año. \nUn lugar con una atmósfera fantástica\, donde absolutamente todos pueden disfrutar de una vida activa\, compartir experiencias y crear recuerdos que durarán toda la vida. \nMás información en: https://www.clublasanta.com/ \n\n\n\n\n\n  \n \n			\n				\n				\n				\n				\n				Política de Cancelación.\n				Política de Cancelación: \nCancelación entre 25 días y el evento: sin reembolso.\nCancelación entre 25 y 60 días: reembolso del 30%.\nCancelación con más de 60 días de antelación: reembolso del 50%.\n			\n			\n				\n				\n				\n				\n			\n				\n				\n				\n				\n				\n				\n				\n				\n				\n				\n				\n				\n					«Asistí a un campamento de squash de una semana con el equipo de Tino en Lanzarote este verano. El entrenamiento fue riguroso\, con dos sesiones diarias de 1.5 horas\, y la calidad del coaching fue excelente\, mejorando considerablemente mis habilidades técnicas y tácticas. Mientras yo entrenaba\, mi esposa disfrutaba de la belleza de Lanzarote y de nuestro lujoso resort. El campamento combinó perfectamente el entrenamiento intenso con el ocio\, y estoy emocionado por futuras experiencias similares.» \nDomingo (Florida-USA)
URL:https://worldenjoyer.com/event/campus-squash-lanzarote-2/?lang=es
LOCATION:Club La Santa\, Avenida Krogager\, S/N\, Tinajo\, Lanzarote\, 35560\, Spain
CATEGORIES:5 Días,Premium
ATTACH;FMTTYPE=image/jpeg:https://worldenjoyer.com/wp-content/uploads/2024/11/IMG_20240606_152353-scaled.jpg
ORGANIZER;CN="Equipo de World Enjoyer":MAILTO:info@worldenjoyer.com
END:VEVENT
BEGIN:VEVENT
DTSTART;TZID=Europe/Madrid:20250602T160000
DTEND;TZID=Europe/Madrid:20250606T140000
DTSTAMP:20260421T230054
CREATED:20241207T190413Z
LAST-MODIFIED:20250417T171446Z
UID:10000060-1748880000-1749218400@worldenjoyer.com
SUMMARY:Campus Squash Lanzarote
DESCRIPTION:🕑💪 ¡Plazas Limitadas!\n				\n			\n				\n				\n				\n				\n				\n				\n				\n					\n				\n			\n				\n			\n			\n				\n				\n				\n				\n			\n				\n				\n				\n				\n				\n				\n				\n				\n				\n				\n				\n\n\n\n📍 Campus Squash Lanzarote es una de las mejores experiencias de squash que hemos creado para todos los amantes de este deporte. Mejora tus habilidades en squash mientras disfrutas de la mejor ubicación en Lanzarote. \n📅 Garantizamos un mínimo de 15 horas de entrenamiento en 5 días\, trabajando todos los aspectos clave para mejorar tu squash. \n📶 Trabajamos en grupos diferentes según el nivel. ¡Todos los niveles son bienvenidos! \n🎾 Sube de nivel en squash en una experiencia memorable en las Islas Canarias. \n¡Entrena y mejora tu squash en España! \n\n\n\n\n			\n			\n				\n				\n				\n				\n				\n				\n					\n				\n				\n				\n					\n						\n						\n							  \n  \n  \n  \n  \n  \n							\n						\n					\n				\n				\n				\n				\n			\n			\n				\n				\n				\n					\n						\n						\n							\n							\n						\n					\n				\n				\n				\n				\n			\n			\n				\n				\n				\n					\n						\n						\n							\n							\n						\n					\n				\n				\n				\n				\n			\n			\n				\n				\n			\n			\n			\n				\n				\n				\n				\n			\n				\n				\n				\n				\n				\n				\n				\n				\n				\n				\n				\n				\n			\n				\n				\n				\n				\n				Más de 450 Campus en 17 países.20 años organizando campus de squash en 17 países \n				\n			\n				\n				\n				\n				\n				\n				\n				\n					\n				\n			\n				\n			\n			\n				\n				\n				\n				\n			\n				\n				\n				\n				\n				\n				\n				\n				\n				\n				\n				Equipo de Trabajo.\n				Tino Casas\nEntrenador profesional. Exjugador de PSA. Tino y su equipo han dirigido más de 450 campamentos internacionales en 17 países. \n			\n				\n				\n				\n				\n				Objetivos\n				Campus Lanzarote Squash. \nEntrena y mejora tu squash en un ambiente internacional. \nRecibe instrucción de alta calidad de nuestro experimentado equipo de entrenadores internacionales. \nDisfruta de una experiencia memorable en un ambiente muy agradable. \nEl programa cubrirá todos los aspectos del desarrollo del jugador\, incluyendo técnica\, táctica\, movimiento y entrenamiento físico. \nRecibe entrenamiento y partidos de nuestro personal profesional. \n¡Contáctanos para más detalles sobre el campamento! \n			\n				\n				\n				\n				\n				Entrenamiento de Squash.\n				Campus Lanzarote Squash: \nNuestro programa se enfocará en mejorar tu técnica y desarrollar tu capacidad física\, teniendo en cuenta tu nivel\, edad y desarrollo físico. \nTambién trabajaremos contigo para mejorar tu fortaleza mental: \n\nSesiones de estiramiento y relajación.\nDesarrollo de un plan de acción personalizado para que puedas llevarte y trabajar en él.\nSesiones de coaching individual adaptadas a tus necesidades específicas.\nAnálisis de video y seminarios para mejorar tus tácticas.\nPsicología deportiva y visualización para ayudarte a alcanzar tus objetivos personales de squash.\n\n			\n			\n				\n				\n				\n				\n				\n				\n				\n				\n				\n				Horarios y Organización\n				Sesión doble: \nPor la mañana: \n\nTrabajo técnico en la pista. Trabajamos con un análisis de los fundamentos y la precisión. Nuestro equipo de entrenadores se encarga de la alimentación durante los ejercicios.\nPreparación física. Cada día nos centramos en diferentes aspectos: (potencia\, velocidad\, resistencia).\nEstiramientos y ejercicios para prevenir lesiones.\n\nPor la tarde: \n\nEjercicios tácticos y de juego condicionado. Partidos entre jugadores y entrenadores.\nSeminario (Análisis de video).\n\nA lo largo de la semana\, organizamos experiencias gastronómicas\, visitas turísticas y actividades de ocio. \n			\n				\n				\n				\n				\n				Instalaciones y Alojamiento.\n				\n\n\n\n\nCampus Lanzarote Squash. \nAlojamiento e Instalaciones deportivas: \nClub La Santa es un verdadero paraíso para los amantes de las vacaciones activas. Disfruta de una enorme variedad de deportes\, ejercicio\, bienestar y actividades sociales bajo el sol brillante de Lanzarote durante todo el año. \nUn lugar con una atmósfera fantástica\, donde absolutamente todos pueden disfrutar de una vida activa\, compartir experiencias y crear recuerdos que durarán toda la vida. \nMás información en: https://www.clublasanta.com/ \n\n\n\n\n\n  \n  \n			\n				\n				\n				\n				\n				Política de Cancelación.\n				Política de Cancelación: \nCancelación entre 25 días y el evento: sin reembolso.\nCancelación entre 25 y 60 días: reembolso del 30%.\nCancelación con más de 60 días de antelación: reembolso del 50%. \n			\n			\n				\n				\n				\n				\n			\n				\n				\n				\n				\n				\n				\n				\n				\n				\n				\n				\n				\n					«Asistí a un campamento de squash de una semana con el equipo de Tino en Lanzarote este verano. El entrenamiento fue riguroso\, con dos sesiones diarias de 1.5 horas\, y la calidad del coaching fue excelente\, mejorando considerablemente mis habilidades técnicas y tácticas. Mientras yo entrenaba\, mi esposa disfrutaba de la belleza de Lanzarote y de nuestro lujoso resort. El campamento combinó perfectamente el entrenamiento intenso con el ocio\, y estoy emocionado por futuras experiencias similares.» \nDomingo (Florida-USA)
URL:https://worldenjoyer.com/event/campus-squash-lanzarote/?lang=es
LOCATION:Club La Santa\, Avenida Krogager\, S/N\, Tinajo\, Lanzarote\, 35560\, Spain
CATEGORIES:5 Días,Premium
ATTACH;FMTTYPE=image/jpeg:https://worldenjoyer.com/wp-content/uploads/2023/04/20221128_115913-scaled.jpg
ORGANIZER;CN="Equipo de World Enjoyer":MAILTO:info@worldenjoyer.com
END:VEVENT
END:VCALENDAR