BEGIN:VCALENDAR
VERSION:2.0
PRODID:-//World Enjoyer - ECPv6.15.3//NONSGML v1.0//EN
CALSCALE:GREGORIAN
METHOD:PUBLISH
X-ORIGINAL-URL:https://worldenjoyer.com
X-WR-CALDESC:Events for World Enjoyer
REFRESH-INTERVAL;VALUE=DURATION:PT1H
X-Robots-Tag:noindex
X-PUBLISHED-TTL:PT1H
BEGIN:VTIMEZONE
TZID:Europe/Madrid
BEGIN:DAYLIGHT
TZOFFSETFROM:+0100
TZOFFSETTO:+0200
TZNAME:CEST
DTSTART:20250330T010000
END:DAYLIGHT
BEGIN:STANDARD
TZOFFSETFROM:+0200
TZOFFSETTO:+0100
TZNAME:CET
DTSTART:20251026T010000
END:STANDARD
END:VTIMEZONE
BEGIN:VEVENT
DTSTART;TZID=Europe/Madrid:20250208T100000
DTEND;TZID=Europe/Madrid:20250209T180000
DTSTAMP:20260421T012511
CREATED:20241123T133540Z
LAST-MODIFIED:20250204T063452Z
UID:10000009-1739008800-1739124000@worldenjoyer.com
SUMMARY:Trondheim Squash Camp
DESCRIPTION:🕑💪 Limited spots! Boost your skills at this exclusive camp!\n				\n			\n				\n				\n				\n				\n				\n				\n				\n					\n				\n			\n				\n			\n			\n				\n				\n				\n				\n			\n				\n				\n				\n				\n				\n				\n				\n				\n				\n				\n				📍Trondheim Squash Camp is a great opportunity to improve your squash.  \n📅From 7th to 9th February\, 2025. We guarantee a minimum of 8 hours course (Gold) or 4 hours course (Silver). \n📶We work in different work groups depending on the level. All levels are welcome! \n🎾Level up your Squash in a memorable experience in Trondheim. \nBoost your Squash skills to the next level in our Squash Camp! \nTrain and improve your Squash in Norway! \n			\n			\n				\n				\n				\n				\n				\n				\n					\n				\n				\n				\n					\n						\n						\n							  \n  \n  \n  \n  \n  \n  \n							\n						\n					\n				\n				\n				\n				\n			\n			\n				\n				\n				\n					\n						\n						\n							  \n  \n  \n  \n  \n  \n							\n						\n					\n				\n				\n				\n				\n			\n			\n				\n				\n				\n					\n						\n						\n							  \n  \n  \n  \n							\n						\n					\n				\n				\n				\n				\n			\n			\n				\n				\n				\n					\n						\n						\n							  \n  \n  \n \n							\n						\n					\n				\n				\n				\n				\n			\n			\n				\n				\n			\n			\n			\n				\n				\n				\n				\n			\n				\n				\n				\n				\n				\n				\n				\n				\n				\n				\n				\n				\n			\n				\n				\n				\n				\n				More than 450 camps in 17 countries20-year running camps around the world\n				\n			\n				\n				\n				\n				\n				\n				\n				\n					\n				\n			\n				\n			\n			\n				\n				\n				\n				\n			\n				\n				\n				\n				\n				\n				\n				\n				\n				\n				\n				Coaching team\n				Neill Mc Carron \nLEARN MORE \n			\n				\n				\n				\n				\n				Objectives and Goals\n				\nTrain and improve your squash in an international environment.\nReceive high-quality instruction from our experienced international coaching team.\nEnjoy a memorable experience in a very nice environment.\nthe program will cover all aspects of player development including technique\, tactics\, movement\, and physical training.\nReceive training and matches from our professional staff.\n\nContact us for details of the camp!\n			\n				\n				\n				\n				\n				Training\n				Our program will focus on your technique and help develop your physical capacity whilst taking into consideration your level\, age\, and physical development. \nWe will also work with you to improve your mental toughness: \n\nSessions of stretching and relaxation.\nDevelop a personalized action plan for you to take away and work on.\nIndividual coaching sessions tailored to your specific needs.\nVideo analysis and seminars to improve your tactics.\nSports psychology and visualization to help you achieve your personal squash goals.\n\n			\n			\n				\n				\n				\n				\n				\n				\n				\n				\n				\n				Camp Schedule\n				Trondheim Squash Camp. \n\nSaturday: We organize double sessions (Morning – Afternoon) plus dinner camp.\nSunday: We organize double sessions (Morning – Afternoon)\n\n			\n				\n				\n				\n				\n				Venue Training\n				Trondheim Squash Camp venue: \n3T Sluppen \n			\n				\n				\n				\n				\n				Cancellation policy\n				\nCancellation between 25 days and event – No refund.\nCancellation between 25 days and 60 days – 30% Refund.\nCancellation more than 60 days – 50% refund.\n\n			\n			\n				\n				\n				\n				\n			\n				\n				\n				\n				\n				\n				\n				\n				\n				\n				\n				\n				\n					Jeg har vært med på min første kamp i Oslo og er veldig fornøyd. Uansett dine forventninger eller nivået er det noe i det for deg. Anbefalt! \nEmaad (Norway)
URL:https://worldenjoyer.com/event/trondheim-squash-camp/
LOCATION:3T-Sluppen\, Sluppenvegen\, 12H\, Trondheim\, Trondheim\, 7037\, Norway
CATEGORIES:Elite,Premium,Weekends
ATTACH;FMTTYPE=image/jpeg:https://worldenjoyer.com/wp-content/uploads/2024/10/3-Trondheim-Squash-Camp-2024-scaled.jpg
ORGANIZER;CN="World Enjoyer Coaching Team":MAILTO:info@worldenjoyer.com
END:VEVENT
END:VCALENDAR